BEGIN:VCALENDAR
VERSION:2.0
PRODID:-//eventon.com NONSGML v1.0//EN
CALSCALE:GREGORIAN
METHOD:PUBLISH
BEGIN:VEVENT
UID:69ed7b6654f8f
DTSTAMP:20260426T024142Z
DTSTART:20240607T180000Z
DTEND:20240607T193000Z
LOCATION:
SUMMARY:Steve Donahoe (Friday)
DESCRIPTION:Playing live in our Biergarten (weather permitting) Prevailing 
 Cover Charge 21+\nhttps://rathskeller.com/events/steve-donahoe-friday/
URL:https://rathskeller.com/events/steve-donahoe-friday/
END:VEVENT
END:VCALENDAR