BEGIN:VCALENDAR
VERSION:2.0
PRODID:-//eventon.com NONSGML v1.0//EN
CALSCALE:GREGORIAN
METHOD:PUBLISH
BEGIN:VEVENT
UID:69ed676a71f06
DTSTAMP:20260426T011626Z
DTSTART:20240517T180000Z
DTEND:20240517T193000Z
LOCATION:
SUMMARY:Frank & Maddie (Fri)
DESCRIPTION:Playing LIVE in the Rathskeller Biergarten 6:00 pm- 7:30 pm &#8
 211; Prevailing Cover Charge 21+\nhttps://rathskeller.com/events/frank-madd
 ie-fri/
URL:https://rathskeller.com/events/frank-maddie-fri/
END:VEVENT
END:VCALENDAR