BEGIN:VCALENDAR
VERSION:2.0
PRODID:-//eventon.com NONSGML v1.0//EN
CALSCALE:GREGORIAN
METHOD:PUBLISH
BEGIN:VEVENT
UID:69ed55b168a3a
DTSTAMP:20260426T000049Z
DTSTART:20240518T170000Z
DTEND:20240518T190000Z
LOCATION:
SUMMARY:Dream Slice (Sat)
DESCRIPTION:Playing LIVE in the Rathskeller Biergarten 5-7pm. Prevailing Co
 ver Charge 21+\nhttps://rathskeller.com/events/dream-slice-sat/
URL:https://rathskeller.com/events/dream-slice-sat/
END:VEVENT
END:VCALENDAR