BEGIN:VCALENDAR
VERSION:2.0
PRODID:-//eventon.com NONSGML v1.0//EN
CALSCALE:GREGORIAN
METHOD:PUBLISH
BEGIN:VEVENT
UID:69ed427f9a431
DTSTAMP:20260425T223855Z
DTSTART:20240517T180000Z
DTEND:20240517T193000Z
LOCATION:
SUMMARY:Frank & Maddie (Friday)
DESCRIPTION:Playing live in our Famous Biergarten (weather permitting) Prev
 ailing Cover Charge 21+\nhttps://rathskeller.com/events/frank-maddie-friday
 /
URL:https://rathskeller.com/events/frank-maddie-friday/
END:VEVENT
END:VCALENDAR