BEGIN:VCALENDAR
VERSION:2.0
PRODID:-//eventon.com NONSGML v1.0//EN
CALSCALE:GREGORIAN
METHOD:PUBLISH
BEGIN:VEVENT
UID:69ed2d7df0d65
DTSTAMP:20260425T210917Z
DTSTART:20240531T180000Z
DTEND:20240531T193000Z
LOCATION:
SUMMARY:Lizzie Cates (Fri)
DESCRIPTION:Playing outside in the Biergarten from 6- 7:30 pm- Prevailing C
 over Charge 21+\nhttps://rathskeller.com/events/lizzie-cates-fri/
URL:https://rathskeller.com/events/lizzie-cates-fri/
END:VEVENT
END:VCALENDAR