BEGIN:VCALENDAR
VERSION:2.0
PRODID:-//eventon.com NONSGML v1.0//EN
CALSCALE:GREGORIAN
METHOD:PUBLISH
BEGIN:VEVENT
UID:69ed1d32866d3
DTSTAMP:20260425T195946Z
DTSTART:20240706T130000Z
DTEND:20240706T160000Z
LOCATION:
SUMMARY:Cassidy & Klarc (Sat)
DESCRIPTION:Playing LIVE in the Rathskeller Biergarten. Prevailing Cover Ch
 arge 21+\nhttps://rathskeller.com/events/lizzie-cates-sat/
URL:https://rathskeller.com/events/lizzie-cates-sat/
END:VEVENT
END:VCALENDAR