BEGIN:VCALENDAR
VERSION:2.0
PRODID:-//eventon.com NONSGML v1.0//EN
CALSCALE:GREGORIAN
METHOD:PUBLISH
BEGIN:VEVENT
UID:69ed0b38be5c1
DTSTAMP:20260425T184304Z
DTSTART:20240630T160000Z
DTEND:20240630T190000Z
LOCATION:
SUMMARY:Friends Of Indy Animals (Sunday)
DESCRIPTION:Unleashed!\,  presented by Capital Group\,  is a &#8220;battle 
 of the bands&#8221; for bands that are employed and sponsored by local area
  businesses. It’s also a fundraising event for Friends of Indy Animals\, 
  the nonprofit foundation that supports the work of Indianapolis Animal Car
 e Services (IACS). It’s time to stop getting[..]\nhttps://rathskeller.com
 /events/friends-of-indy-animals-thursday/
URL:https://rathskeller.com/events/friends-of-indy-animals-thursday/
END:VEVENT
END:VCALENDAR