BEGIN:VCALENDAR
VERSION:2.0
PRODID:-//eventon.com NONSGML v1.0//EN
CALSCALE:GREGORIAN
METHOD:PUBLISH
BEGIN:VEVENT
UID:69ecfb44ea428
DTSTAMP:20260425T173500Z
DTSTART:20240629T130000Z
DTEND:20240629T160000Z
LOCATION:
SUMMARY:Seanie Vaughan (Saturday)
DESCRIPTION:Playing LIVE in the Rathskeller Biergarten. Prevailing cover ch
 arge. 21+ 1-4pm\nhttps://rathskeller.com/events/seanie-vaughan-saturday/
URL:https://rathskeller.com/events/seanie-vaughan-saturday/
END:VEVENT
END:VCALENDAR