BEGIN:VCALENDAR
VERSION:2.0
PRODID:-//eventon.com NONSGML v1.0//EN
CALSCALE:GREGORIAN
METHOD:PUBLISH
BEGIN:VEVENT
UID:69ecea03a280d
DTSTAMP:20260425T162123Z
DTSTART:20240725T170000Z
DTEND:20240725T220000Z
LOCATION:
SUMMARY:Very Important Beer\,  FT. Foreigner (Thursday)
DESCRIPTION:A beer and music event! General Admission- $20 VIP Experience- 
 $100 Reserved Tables- $200 for up to 8 guests!\nhttps://rathskeller.com/eve
 nts/very-important-beer-ft-foreigners-thursday/
URL:https://rathskeller.com/events/very-important-beer-ft-foreigners-thursday/
END:VEVENT
END:VCALENDAR