BEGIN:VCALENDAR
VERSION:2.0
PRODID:-//eventon.com NONSGML v1.0//EN
CALSCALE:GREGORIAN
METHOD:PUBLISH
BEGIN:VEVENT
UID:69ecd89a14fe3
DTSTAMP:20260425T150706Z
DTSTART:20240816T180000Z
DTEND:20240816T193000Z
LOCATION:
SUMMARY:Sasha McVeigh (Friday)
DESCRIPTION:Playing live in our famous Biergarten (weather permitting) 21+ 
 prevailing cover charge\nhttps://rathskeller.com/events/sasha-mcveigh-frida
 y-2/
URL:https://rathskeller.com/events/sasha-mcveigh-friday-2/
END:VEVENT
END:VCALENDAR