BEGIN:VCALENDAR
VERSION:2.0
PRODID:-//eventon.com NONSGML v1.0//EN
CALSCALE:GREGORIAN
METHOD:PUBLISH
BEGIN:VEVENT
UID:69ecc72a32a39
DTSTAMP:20260425T135242Z
DTSTART:20240823T180000Z
DTEND:20240823T193000Z
LOCATION:
SUMMARY:Chris Moreno (Friday)
DESCRIPTION:Playing live in our Biergarten (weather permitting) 21+ Prevail
 ing Cover Charge\nhttps://rathskeller.com/events/chris-moreno-friday/
URL:https://rathskeller.com/events/chris-moreno-friday/
END:VEVENT
END:VCALENDAR