BEGIN:VCALENDAR
VERSION:2.0
PRODID:-//eventon.com NONSGML v1.0//EN
CALSCALE:GREGORIAN
METHOD:PUBLISH
BEGIN:VEVENT
UID:69ecb3b969f7c
DTSTAMP:20260425T122945Z
DTSTART:20240824T130000Z
DTEND:20240824T160000Z
LOCATION:
SUMMARY:Chris Moreno (Saturday)
DESCRIPTION:Playing live in our Biergarten (Weather Permitting) Prevailing 
 Cover Charge 21+\nhttps://rathskeller.com/events/chris-moreno-saturday/
URL:https://rathskeller.com/events/chris-moreno-saturday/
END:VEVENT
END:VCALENDAR