BEGIN:VCALENDAR
VERSION:2.0
PRODID:-//eventon.com NONSGML v1.0//EN
CALSCALE:GREGORIAN
METHOD:PUBLISH
BEGIN:VEVENT
UID:69eca1b141c61
DTSTAMP:20260425T111249Z
DTSTART:20240831T130000Z
DTEND:20240831T160000Z
LOCATION:
SUMMARY:Dan Harrison (Saturday)
DESCRIPTION:Playing live in our World Famous Biergarten (weather permitting
 ) 21+ Prevailing Cover Charge\nhttps://rathskeller.com/events/dan-harrison-
 saturday/
URL:https://rathskeller.com/events/dan-harrison-saturday/
END:VEVENT
END:VCALENDAR