BEGIN:VCALENDAR
VERSION:2.0
PRODID:-//eventon.com NONSGML v1.0//EN
CALSCALE:GREGORIAN
METHOD:PUBLISH
BEGIN:VEVENT
UID:69ec337f72273
DTSTAMP:20260425T032239Z
DTSTART:20240810T130000Z
DTEND:20240810T160000Z
LOCATION:
SUMMARY:Honey & Hutch (Saturday)
DESCRIPTION:Playing LIVE in the Biergarten 1-4PM Prevailing Cover Charge 21
 +\nhttps://rathskeller.com/events/honey-hutch-saturday/
URL:https://rathskeller.com/events/honey-hutch-saturday/
END:VEVENT
END:VCALENDAR