BEGIN:VCALENDAR
VERSION:2.0
PRODID:-//eventon.com NONSGML v1.0//EN
CALSCALE:GREGORIAN
METHOD:PUBLISH
BEGIN:VEVENT
UID:69ec20ace377e
DTSTAMP:20260425T020220Z
DTSTART:20240830T180000Z
DTEND:20240830T193000Z
LOCATION:
SUMMARY:StandOut Story (Friday)
DESCRIPTION:Playing LIVE in the Rathskeller Biergarten 6-7:30PM Prevailing 
 Cover Charge 21+\nhttps://rathskeller.com/events/standout-story-friday/
URL:https://rathskeller.com/events/standout-story-friday/
END:VEVENT
END:VCALENDAR