BEGIN:VCALENDAR
VERSION:2.0
PRODID:-//eventon.com NONSGML v1.0//EN
CALSCALE:GREGORIAN
METHOD:PUBLISH
BEGIN:VEVENT
UID:69ec0d7461c29
DTSTAMP:20260425T004020Z
DTSTART:20240907T130000Z
DTEND:20240907T160000Z
LOCATION:
SUMMARY:Sam Hahn (Saturday)
DESCRIPTION:Playing LIVE in the Rathskeller Biergarten 1-4PM Prevailing Cov
 er Charge 21+\nhttps://rathskeller.com/events/sam-hahn-saturday-2/
URL:https://rathskeller.com/events/sam-hahn-saturday-2/
END:VEVENT
END:VCALENDAR