BEGIN:VCALENDAR
VERSION:2.0
PRODID:-//eventon.com NONSGML v1.0//EN
CALSCALE:GREGORIAN
METHOD:PUBLISH
BEGIN:VEVENT
UID:69ebf9234b509
DTSTAMP:20260424T231339Z
DTSTART:20240908T110000Z
DTEND:20240908T220000Z
LOCATION:
SUMMARY:Rock For Riley (Sunday)
DESCRIPTION:Buy a ticket and enjoy the music!!\nhttps://rathskeller.com/eve
 nts/biergarten-closed-for-private-event-sunday-3/
URL:https://rathskeller.com/events/biergarten-closed-for-private-event-sunday-3/
END:VEVENT
END:VCALENDAR