BEGIN:VCALENDAR
VERSION:2.0
PRODID:-//eventon.com NONSGML v1.0//EN
CALSCALE:GREGORIAN
METHOD:PUBLISH
BEGIN:VEVENT
UID:69ebe50973164
DTSTAMP:20260424T214753Z
DTSTART:20240912T183000Z
DTEND:20240912T213000Z
LOCATION:
SUMMARY:Tommy & Lynzi (Thursday)
DESCRIPTION:Playing LIVE in the Rathskeller 6:30-9:30! Prevailing Cover Cha
 rge 21+\nhttps://rathskeller.com/events/tommy-lynzi-thursday/
URL:https://rathskeller.com/events/tommy-lynzi-thursday/
END:VEVENT
END:VCALENDAR