BEGIN:VCALENDAR
VERSION:2.0
PRODID:-//eventon.com NONSGML v1.0//EN
CALSCALE:GREGORIAN
METHOD:PUBLISH
BEGIN:VEVENT
UID:69ebce537b965
DTSTAMP:20260424T201059Z
DTSTART:20240914T130000Z
DTEND:20240914T160000Z
LOCATION:
SUMMARY:Klarc Whitson (Saturday)
DESCRIPTION:Playing LIVE in the Rathskeller Biergarten 1-4PM Prevailing Cov
 er Charge 21+\nhttps://rathskeller.com/events/klarc-whitson-saturday-5/
URL:https://rathskeller.com/events/klarc-whitson-saturday-5/
END:VEVENT
END:VCALENDAR