BEGIN:VCALENDAR
VERSION:2.0
PRODID:-//eventon.com NONSGML v1.0//EN
CALSCALE:GREGORIAN
METHOD:PUBLISH
BEGIN:VEVENT
UID:69ebbd359aae9
DTSTAMP:20260424T185757Z
DTSTART:20240928T130000Z
DTEND:20240928T160000Z
LOCATION:
SUMMARY:Klarc Whitson (Saturday)
DESCRIPTION:Playing LIVE in the Rathskeller Biergarten 1-4PM Prevailing Cov
 er Charge 21+\nhttps://rathskeller.com/events/klarc-whitson-saturday-6/
URL:https://rathskeller.com/events/klarc-whitson-saturday-6/
END:VEVENT
END:VCALENDAR