BEGIN:VCALENDAR
VERSION:2.0
PRODID:-//eventon.com NONSGML v1.0//EN
CALSCALE:GREGORIAN
METHOD:PUBLISH
BEGIN:VEVENT
UID:69ebaa3e5dc0e
DTSTAMP:20260424T173702Z
DTSTART:20240929T110000Z
DTEND:20240929T230000Z
LOCATION:
SUMMARY:Biergarten CLOSED for Private Event
DESCRIPTION:The Biergarten will be CLOSED for a private event!\nhttps://rat
 hskeller.com/events/biergarten-closed-for-private-event/
URL:https://rathskeller.com/events/biergarten-closed-for-private-event/
END:VEVENT
END:VCALENDAR