BEGIN:VCALENDAR
VERSION:2.0
PRODID:-//eventon.com NONSGML v1.0//EN
CALSCALE:GREGORIAN
METHOD:PUBLISH
BEGIN:VEVENT
UID:69eb977a75acd
DTSTAMP:20260424T161658Z
DTSTART:20241005T110000Z
DTEND:20241005T160000Z
LOCATION:
SUMMARY:GERMANFEST (Saturday)
DESCRIPTION:Get ready to raise your steins and join us at the Athenaeum’s
  16th annual GermanFest\,  the best Haus party in Indy! This all-ages celeb
 ration on October 5 promises a day of fun for everyone\,  filled with bie
 r\,  brats\,  and wiener dogs! Enjoy live music\,  beers on tap\,  deliciou
 s eats\,  and unique items[..]\nhttps://rathskeller.com/events/germanfest-s
 aturday-2/
URL:https://rathskeller.com/events/germanfest-saturday-2/
END:VEVENT
END:VCALENDAR