BEGIN:VCALENDAR
VERSION:2.0
PRODID:-//eventon.com NONSGML v1.0//EN
CALSCALE:GREGORIAN
METHOD:PUBLISH
BEGIN:VEVENT
UID:69eba8e82e8b6
DTSTAMP:20260424T173120Z
DTSTART:20241013T110000Z
DTEND:20241013T230000Z
LOCATION:
SUMMARY:Biergarten CLOSED for Private Event (Sunday)
DESCRIPTION:The Biergarten will be CLOSED for a private event!\nhttps://rat
 hskeller.com/events/biergarten-closed-for-private-event-sunday-4/
URL:https://rathskeller.com/events/biergarten-closed-for-private-event-sunday-4/
END:VEVENT
END:VCALENDAR