BEGIN:VCALENDAR
VERSION:2.0
PRODID:-//eventon.com NONSGML v1.0//EN
CALSCALE:GREGORIAN
METHOD:PUBLISH
BEGIN:VEVENT
UID:69ebb9132f6ec
DTSTAMP:20260424T184019Z
DTSTART:20250516T190000Z
DTEND:20250516T230000Z
LOCATION:
SUMMARY:My Yellow Rickshaw (Friday)
DESCRIPTION:Playing LIVE in the Rathskeller Biergarten- Prevailing Cover Ch
 arge 21+\nhttps://rathskeller.com/events/my-yellow-rickshaw-friday-15/
URL:https://rathskeller.com/events/my-yellow-rickshaw-friday-15/
END:VEVENT
END:VCALENDAR