BEGIN:VCALENDAR
VERSION:2.0
PRODID:-//eventon.com NONSGML v1.0//EN
CALSCALE:GREGORIAN
METHOD:PUBLISH
BEGIN:VEVENT
UID:69ebcb6421130
DTSTAMP:20260424T195828Z
DTSTART:20250627T200000Z
DTEND:20250627T230000Z
LOCATION:
SUMMARY:My Yellow Rickshaw (Fri)
DESCRIPTION:Playing LIVE in the Rathskeller Biergarten- Prevailing Cover Ch
 arge 21+\nhttps://rathskeller.com/events/my-yellow-rickshaw-fri/
URL:https://rathskeller.com/events/my-yellow-rickshaw-fri/
END:VEVENT
END:VCALENDAR