BEGIN:VCALENDAR
VERSION:2.0
PRODID:-//eventon.com NONSGML v1.0//EN
CALSCALE:GREGORIAN
METHOD:PUBLISH
BEGIN:VEVENT
UID:69ebdf2ba090d
DTSTAMP:20260424T212251Z
DTSTART:20251003T190000Z
DTEND:20251003T230000Z
LOCATION:
SUMMARY:My Yellow Rickshaw (Friday)
DESCRIPTION:Playing LIVE in the Rathskeller Biergarten &#8211; Prevailing C
 over Charge 21+\nhttps://rathskeller.com/events/my-yellow-rickshaw-friday-1
 6/
URL:https://rathskeller.com/events/my-yellow-rickshaw-friday-16/
END:VEVENT
END:VCALENDAR