BEGIN:VCALENDAR
VERSION:2.0
PRODID:-//eventon.com NONSGML v1.0//EN
CALSCALE:GREGORIAN
METHOD:PUBLISH
BEGIN:VEVENT
UID:69ebf55c50891
DTSTAMP:20260424T225732Z
DTSTART:20240920T200000Z
DTEND:20240920T230000Z
LOCATION:
SUMMARY:Brady Lee (Friday)
DESCRIPTION:Playing LIVE in the Rathskeller Biergarten from 8-11 pm\nhttps:
 //rathskeller.com/events/brady-lee-friday-7/
URL:https://rathskeller.com/events/brady-lee-friday-7/
END:VEVENT
END:VCALENDAR