BEGIN:VCALENDAR
VERSION:2.0
PRODID:-//eventon.com NONSGML v1.0//EN
CALSCALE:GREGORIAN
METHOD:PUBLISH
BEGIN:VEVENT
UID:69ec07253fb1a
DTSTAMP:20260425T001325Z
DTSTART:20241019T150000Z
DTEND:20241019T180000Z
LOCATION:
SUMMARY:Der Polkatz (Oktoberfest) Saturday
DESCRIPTION:Oktoberfest rescheduled! Playing LIVE in the Rathskeller Bierga
 rten 3-6 PM!! Prevailing Cover Charge\nhttps://rathskeller.com/events/der-p
 olkatz-oktoberfest-saturday/
URL:https://rathskeller.com/events/der-polkatz-oktoberfest-saturday/
END:VEVENT
END:VCALENDAR