BEGIN:VCALENDAR
VERSION:2.0
PRODID:-//eventon.com NONSGML v1.0//EN
CALSCALE:GREGORIAN
METHOD:PUBLISH
BEGIN:VEVENT
UID:69ec1cf16dcce
DTSTAMP:20260425T014625Z
DTSTART:20241006T140000Z
DTEND:20241006T170000Z
LOCATION:
SUMMARY:Dream Slice (Sunday)
DESCRIPTION:Playing LIVE in the Rathskeller Biergarten from 2-5 PM. Prevail
 ing Cover Charge 21+\nhttps://rathskeller.com/events/dream-slice-sunday-5/
URL:https://rathskeller.com/events/dream-slice-sunday-5/
END:VEVENT
END:VCALENDAR