BEGIN:VCALENDAR
VERSION:2.0
PRODID:-//eventon.com NONSGML v1.0//EN
CALSCALE:GREGORIAN
METHOD:PUBLISH
BEGIN:VEVENT
UID:69ec2e52b44f0
DTSTAMP:20260425T030034Z
DTSTART:20241020T150000Z
DTEND:20241020T193000Z
LOCATION:
SUMMARY:Blonde Hope Hurricane Relief Concert (Sunday)
DESCRIPTION:Come support and donate to help those affected by the recent Hu
 rricanes! 21+\nhttps://rathskeller.com/events/blonde-hope-hurricane-relief-
 concert-sunday/
URL:https://rathskeller.com/events/blonde-hope-hurricane-relief-concert-sunday/
END:VEVENT
END:VCALENDAR