BEGIN:VCALENDAR
VERSION:2.0
PRODID:-//eventon.com NONSGML v1.0//EN
CALSCALE:GREGORIAN
METHOD:PUBLISH
BEGIN:VEVENT
UID:69ec95fbb0e86
DTSTAMP:20260425T102251Z
DTSTART:20241102T200000Z
DTEND:20241102T230000Z
LOCATION:
SUMMARY:Lynzi & Rafael (Saturday)
DESCRIPTION:Playing LIVE 8-11pm 21+\nhttps://rathskeller.com/events/lynzi-r
 afael-saturday/
URL:https://rathskeller.com/events/lynzi-rafael-saturday/
END:VEVENT
END:VCALENDAR