BEGIN:VCALENDAR
VERSION:2.0
PRODID:-//eventon.com NONSGML v1.0//EN
CALSCALE:GREGORIAN
METHOD:PUBLISH
BEGIN:VEVENT
UID:69ecaaaf4ea36
DTSTAMP:20260425T115111Z
DTSTART:20241108T200000Z
DTEND:20241108T230000Z
LOCATION:
SUMMARY:Phil Pierle (Friday)
DESCRIPTION:Playing LIVE 8-11pm\nhttps://rathskeller.com/events/phil-pierle
 -friday-5/
URL:https://rathskeller.com/events/phil-pierle-friday-5/
END:VEVENT
END:VCALENDAR