BEGIN:VCALENDAR
VERSION:2.0
PRODID:-//eventon.com NONSGML v1.0//EN
CALSCALE:GREGORIAN
METHOD:PUBLISH
BEGIN:VEVENT
UID:69ecbc87414ac
DTSTAMP:20260425T130719Z
DTSTART:20241109T200000Z
DTEND:20241109T230000Z
LOCATION:
SUMMARY:Brad Mitchell (Saturday)
DESCRIPTION:Playing LIVE 8-11pm 21+\nhttps://rathskeller.com/events/brad-mi
 tchell-saturday-7/
URL:https://rathskeller.com/events/brad-mitchell-saturday-7/
END:VEVENT
END:VCALENDAR