BEGIN:VCALENDAR
VERSION:2.0
PRODID:-//eventon.com NONSGML v1.0//EN
CALSCALE:GREGORIAN
METHOD:PUBLISH
BEGIN:VEVENT
UID:69ecd0e483a53
DTSTAMP:20260425T143412Z
DTSTART:20241115T200000Z
DTEND:20241115T230000Z
LOCATION:
SUMMARY:Aimee Eisenmann Duo (Friday)
DESCRIPTION:Playing LIVE 8-11 21+\nhttps://rathskeller.com/events/aimee-eis
 enmann-duo-friday/
URL:https://rathskeller.com/events/aimee-eisenmann-duo-friday/
END:VEVENT
END:VCALENDAR