BEGIN:VCALENDAR
VERSION:2.0
PRODID:-//eventon.com NONSGML v1.0//EN
CALSCALE:GREGORIAN
METHOD:PUBLISH
BEGIN:VEVENT
UID:69ece161ebdfe
DTSTAMP:20260425T154433Z
DTSTART:20241116T200000Z
DTEND:20241116T230000Z
LOCATION:
SUMMARY:Alexander Camp (Saturday)
DESCRIPTION:Playing LIVE 8-11pm 21+\nhttps://rathskeller.com/events/alexand
 er-camp-saturday-7/
URL:https://rathskeller.com/events/alexander-camp-saturday-7/
END:VEVENT
END:VCALENDAR