BEGIN:VCALENDAR
VERSION:2.0
PRODID:-//eventon.com NONSGML v1.0//EN
CALSCALE:GREGORIAN
METHOD:PUBLISH
BEGIN:VEVENT
UID:69ecefe31c527
DTSTAMP:20260425T164627Z
DTSTART:20241122T200000Z
DTEND:20241122T230000Z
LOCATION:
SUMMARY:Main Street Duo (Friday)
DESCRIPTION:Playing LIVE 8-11 21+\nhttps://rathskeller.com/events/main-stre
 et-duo-friday/
URL:https://rathskeller.com/events/main-street-duo-friday/
END:VEVENT
END:VCALENDAR