BEGIN:VCALENDAR
VERSION:2.0
PRODID:-//eventon.com NONSGML v1.0//EN
CALSCALE:GREGORIAN
METHOD:PUBLISH
BEGIN:VEVENT
UID:69ed00045ac65
DTSTAMP:20260425T175516Z
DTSTART:20241123T200000Z
DTEND:20241123T230000Z
LOCATION:
SUMMARY:Brad Mitchell (Saturday)
DESCRIPTION:Playing LIVE8-11pm 21+\nhttps://rathskeller.com/events/brad-mit
 chell-saturday-8/
URL:https://rathskeller.com/events/brad-mitchell-saturday-8/
END:VEVENT
END:VCALENDAR