BEGIN:VCALENDAR
VERSION:2.0
PRODID:-//eventon.com NONSGML v1.0//EN
CALSCALE:GREGORIAN
METHOD:PUBLISH
BEGIN:VEVENT
UID:69ed126332fd1
DTSTAMP:20260425T191339Z
DTSTART:20241129T200000Z
DTEND:20241129T230000Z
LOCATION:
SUMMARY:Enigma Fig Duo (Friday)
DESCRIPTION:Playing LIVE 8-11pm 21+\nhttps://rathskeller.com/events/enigma-
 fig-duo-friday/
URL:https://rathskeller.com/events/enigma-fig-duo-friday/
END:VEVENT
END:VCALENDAR