BEGIN:VCALENDAR
VERSION:2.0
PRODID:-//eventon.com NONSGML v1.0//EN
CALSCALE:GREGORIAN
METHOD:PUBLISH
BEGIN:VEVENT
UID:69ed2351ddb40
DTSTAMP:20260425T202553Z
DTSTART:20241206T200000Z
DTEND:20241206T230000Z
LOCATION:
SUMMARY:Phil Pierle (Friday)
DESCRIPTION:Playing LIVE 8-11 21+\nhttps://rathskeller.com/events/phil-pier
 le-friday-6/
URL:https://rathskeller.com/events/phil-pierle-friday-6/
END:VEVENT
END:VCALENDAR