BEGIN:VCALENDAR
VERSION:2.0
PRODID:-//eventon.com NONSGML v1.0//EN
CALSCALE:GREGORIAN
METHOD:PUBLISH
BEGIN:VEVENT
UID:69ed38592a94b
DTSTAMP:20260425T215537Z
DTSTART:20241207T200000Z
DTEND:20241207T230000Z
LOCATION:
SUMMARY:Levi Riggs (Saturday)
DESCRIPTION:Playing LIVE 8-11pm 21+\nhttps://rathskeller.com/events/joe-boc
 khelm-of-the-legal-immigrants-saturday/
URL:https://rathskeller.com/events/joe-bockhelm-of-the-legal-immigrants-saturday/
END:VEVENT
END:VCALENDAR