BEGIN:VCALENDAR
VERSION:2.0
PRODID:-//eventon.com NONSGML v1.0//EN
CALSCALE:GREGORIAN
METHOD:PUBLISH
BEGIN:VEVENT
UID:69ed4bb36c8ec
DTSTAMP:20260425T231811Z
DTSTART:20241213T200000Z
DTEND:20241213T230000Z
LOCATION:
SUMMARY:Brady Lee (Friday)
DESCRIPTION:Playing LIVE 8-11pm 21+\nhttps://rathskeller.com/events/brady-l
 ee-friday-8/
URL:https://rathskeller.com/events/brady-lee-friday-8/
END:VEVENT
END:VCALENDAR