BEGIN:VCALENDAR
VERSION:2.0
PRODID:-//eventon.com NONSGML v1.0//EN
CALSCALE:GREGORIAN
METHOD:PUBLISH
BEGIN:VEVENT
UID:69ed5e8ae1d98
DTSTAMP:20260426T003834Z
DTSTART:20241214T200000Z
DTEND:20241214T230000Z
LOCATION:
SUMMARY:Corey Cox (Saturday)
DESCRIPTION:Playing LIVE 8-11pm 21+\nhttps://rathskeller.com/events/corey-c
 ox-saturday-5/
URL:https://rathskeller.com/events/corey-cox-saturday-5/
END:VEVENT
END:VCALENDAR