BEGIN:VCALENDAR
VERSION:2.0
PRODID:-//eventon.com NONSGML v1.0//EN
CALSCALE:GREGORIAN
METHOD:PUBLISH
BEGIN:VEVENT
UID:69ed6f375e264
DTSTAMP:20260426T014943Z
DTSTART:20241220T200000Z
DTEND:20241220T230000Z
LOCATION:
SUMMARY:Rods & Cones (Friday)
DESCRIPTION:Playing LIVE 8-11pm 21+\nhttps://rathskeller.com/events/rods-co
 nes-friday-2/
URL:https://rathskeller.com/events/rods-cones-friday-2/
END:VEVENT
END:VCALENDAR