BEGIN:VCALENDAR
VERSION:2.0
PRODID:-//eventon.com NONSGML v1.0//EN
CALSCALE:GREGORIAN
METHOD:PUBLISH
BEGIN:VEVENT
UID:69ed8038919d9
DTSTAMP:20260426T030216Z
DTSTART:20241221T200000Z
DTEND:20241221T230000Z
LOCATION:
SUMMARY:Aimee Eisenmann Duo (Saturday)
DESCRIPTION:Playing LIVE 8-11pm 21+\nhttps://rathskeller.com/events/aimee-e
 isenmann-duo-saturday/
URL:https://rathskeller.com/events/aimee-eisenmann-duo-saturday/
END:VEVENT
END:VCALENDAR