BEGIN:VCALENDAR
VERSION:2.0
PRODID:-//eventon.com NONSGML v1.0//EN
CALSCALE:GREGORIAN
METHOD:PUBLISH
BEGIN:VEVENT
UID:69ed91e6b2f17
DTSTAMP:20260426T041742Z
DTSTART:20241227T200000Z
DTEND:20241227T230000Z
LOCATION:
SUMMARY:Alexander Camp (Friday)
DESCRIPTION:Playing LIVE 8-11pm 21+\nhttps://rathskeller.com/events/alexand
 er-camp-friday-4/
URL:https://rathskeller.com/events/alexander-camp-friday-4/
END:VEVENT
END:VCALENDAR