BEGIN:VCALENDAR
VERSION:2.0
PRODID:-//eventon.com NONSGML v1.0//EN
CALSCALE:GREGORIAN
METHOD:PUBLISH
BEGIN:VEVENT
UID:69ed94745f197
DTSTAMP:20260426T042836Z
DTSTART:20250518T140000Z
DTEND:20250518T170000Z
LOCATION:
SUMMARY:Phil Pierle (Sunday)
DESCRIPTION:Playing LIVE in the Rathskeller Biergarten 2-5pm! 21+ Prevailin
 g Cover Charge\nhttps://rathskeller.com/events/phil-pierle-sunday-2/
URL:https://rathskeller.com/events/phil-pierle-sunday-2/
END:VEVENT
END:VCALENDAR