BEGIN:VCALENDAR
VERSION:2.0
PRODID:-//eventon.com NONSGML v1.0//EN
CALSCALE:GREGORIAN
METHOD:PUBLISH
BEGIN:VEVENT
UID:69ed82e8dd58e
DTSTAMP:20260426T031344Z
DTSTART:20250608T140000Z
DTEND:20250608T170000Z
LOCATION:
SUMMARY:Corey Cox & Alexander Camp (Sunday)
DESCRIPTION:Playing LIVE in the Rathskeller Biergarten 2-5pm! 21+ Prevailin
 g Cover Charge\nhttps://rathskeller.com/events/corey-cox-alexander-camp-sun
 day-3/
URL:https://rathskeller.com/events/corey-cox-alexander-camp-sunday-3/
END:VEVENT
END:VCALENDAR