BEGIN:VCALENDAR
VERSION:2.0
PRODID:-//eventon.com NONSGML v1.0//EN
CALSCALE:GREGORIAN
METHOD:PUBLISH
BEGIN:VEVENT
UID:69ed6e9e977b9
DTSTAMP:20260426T014710Z
DTSTART:20250627T183000Z
DTEND:20250627T194500Z
LOCATION:
SUMMARY:Jessie Haines (Friday)
DESCRIPTION:Playing LIVE in the Rathskeller Biergarten 6:30-7:45! 21+ Preva
 iling Cover Charge\nhttps://rathskeller.com/events/jessie-haines-friday/
URL:https://rathskeller.com/events/jessie-haines-friday/
END:VEVENT
END:VCALENDAR