BEGIN:VCALENDAR
VERSION:2.0
PRODID:-//eventon.com NONSGML v1.0//EN
CALSCALE:GREGORIAN
METHOD:PUBLISH
BEGIN:VEVENT
UID:69ed5dcd6c3ec
DTSTAMP:20260426T003525Z
DTSTART:20250710T190000Z
DTEND:20250710T220000Z
LOCATION:
SUMMARY:Corey Cox & Alexander Camp (Thursday)
DESCRIPTION:Playing LIVE in the Rathskeller Biergarten 7-10pm! 21+ Prevaili
 ng Cover Charge\nhttps://rathskeller.com/events/corey-cox-alexander-camp-th
 ursday-3/
URL:https://rathskeller.com/events/corey-cox-alexander-camp-thursday-3/
END:VEVENT
END:VCALENDAR