BEGIN:VCALENDAR
VERSION:2.0
PRODID:-//eventon.com NONSGML v1.0//EN
CALSCALE:GREGORIAN
METHOD:PUBLISH
BEGIN:VEVENT
UID:69ed4cc3c3977
DTSTAMP:20260425T232243Z
DTSTART:20250717T190000Z
DTEND:20250717T220000Z
LOCATION:
SUMMARY:Gordon Bonham (Thursday)
DESCRIPTION:Playing LIVE in the Rathskeller Biergarten 7-10pm! 21+ Prevaili
 ng Cover Charge\nhttps://rathskeller.com/events/gordon-bonham-thursday-3/
URL:https://rathskeller.com/events/gordon-bonham-thursday-3/
END:VEVENT
END:VCALENDAR